BEGIN:VCALENDAR
PRODID:dds.georgia.gov
VERSION:2.0
CALSCALE:GREGORIAN
BEGIN:VEVENT
UID:d0f47fc4a3203c0104a1c318850c1dcc
DTSTAMP:20260426T035711Z
SUMMARY:December 9\, 2026
URL:https://dds.georgia.gov/events/2026-12-09/december-9-2026
DTSTART;VALUE=DATE:20261209
DTEND;VALUE=DATE:20261210
LOCATION:2206 East View Parkway  Conyers\, GA 30013 US
X-LIC-LOCATION:America/New_York
X-WR-TIMEZONE:America/New_York
END:VEVENT
BEGIN:VTIMEZONE
TZID:America/New_York
END:VTIMEZONE
END:VCALENDAR
