BEGIN:VCALENDAR
PRODID:dds.georgia.gov
VERSION:2.0
CALSCALE:GREGORIAN
BEGIN:VEVENT
UID:9b7336464d1f133ae541e871892ca9c0
DTSTAMP:20260426T022514Z
SUMMARY:August 12\, 2026
URL:https://dds.georgia.gov/events/2026-08-12/august-12-2026
DTSTART;VALUE=DATE:20260812
DTEND;VALUE=DATE:20260813
LOCATION:2206 East View Parkway  Conyers\, GA 30013 US
X-LIC-LOCATION:America/New_York
X-WR-TIMEZONE:America/New_York
END:VEVENT
BEGIN:VTIMEZONE
TZID:America/New_York
END:VTIMEZONE
END:VCALENDAR
