BEGIN:VCALENDAR
VERSION:2.0
PRODID:dds.georgia.gov
X-WR-TIMEZONE:America/New_York
BEGIN:VTIMEZONE
TZID:America/New_York
X-LIC-LOCATION:America/New_York
END:VTIMEZONE
BEGIN:VEVENT
UID:609e5428930a5
DTSTART;TZID=UTC:20200212T150000
SEQUENCE:0
TRANSP:OPAQUE
URL:https://dds.georgia.gov/events/2020-02-12/february-12-2020-board-meetin
 g
LOCATION:2206 East View Parkway CONYERS\, GA 30013
SUMMARY:February 12\, 2020 Board Meeting 
CLASS:PUBLIC
DTSTAMP:20210514T064248Z
END:VEVENT
END:VCALENDAR